BEGIN:VCALENDAR
VERSION:2.0
PRODID:-//Gesangverein &quot;Apollonia&quot; Simmern/Ww e.V. - ECPv6.15.20//NONSGML v1.0//EN
CALSCALE:GREGORIAN
METHOD:PUBLISH
X-ORIGINAL-URL:https://apollonia-simmern.de
X-WR-CALDESC:Veranstaltungen für Gesangverein &quot;Apollonia&quot; Simmern/Ww e.V.
REFRESH-INTERVAL;VALUE=DURATION:PT1H
X-Robots-Tag:noindex
X-PUBLISHED-TTL:PT1H
BEGIN:VTIMEZONE
TZID:Europe/Berlin
BEGIN:DAYLIGHT
TZOFFSETFROM:+0100
TZOFFSETTO:+0200
TZNAME:CEST
DTSTART:20240331T010000
END:DAYLIGHT
BEGIN:STANDARD
TZOFFSETFROM:+0200
TZOFFSETTO:+0100
TZNAME:CET
DTSTART:20241027T010000
END:STANDARD
BEGIN:DAYLIGHT
TZOFFSETFROM:+0100
TZOFFSETTO:+0200
TZNAME:CEST
DTSTART:20250330T010000
END:DAYLIGHT
BEGIN:STANDARD
TZOFFSETFROM:+0200
TZOFFSETTO:+0100
TZNAME:CET
DTSTART:20251026T010000
END:STANDARD
BEGIN:DAYLIGHT
TZOFFSETFROM:+0100
TZOFFSETTO:+0200
TZNAME:CEST
DTSTART:20260329T010000
END:DAYLIGHT
BEGIN:STANDARD
TZOFFSETFROM:+0200
TZOFFSETTO:+0100
TZNAME:CET
DTSTART:20261025T010000
END:STANDARD
END:VTIMEZONE
BEGIN:VEVENT
DTSTART;VALUE=DATE:20250920
DTEND;VALUE=DATE:20250921
DTSTAMP:20260425T135836
CREATED:20250607T092642Z
LAST-MODIFIED:20250607T093824Z
UID:813-1758326400-1758412799@apollonia-simmern.de
SUMMARY:Grillfest der Apollonia
DESCRIPTION:In diesem Jahr unternehmen wir keinen Tagesausflug\, sondern laden alle Mitglieder des Vereines an die Schutzhütte zu einem gemeinsamen Grillfest ein.
URL:https://apollonia-simmern.de/event/grillfest-der-apollonia
CATEGORIES:Termine
END:VEVENT
END:VCALENDAR