BEGIN:VCALENDAR
VERSION:2.0
PRODID:-//Gesangverein &quot;Apollonia&quot; Simmern/Ww e.V. - ECPv6.15.20//NONSGML v1.0//EN
CALSCALE:GREGORIAN
METHOD:PUBLISH
X-WR-CALNAME:Gesangverein &quot;Apollonia&quot; Simmern/Ww e.V.
X-ORIGINAL-URL:https://apollonia-simmern.de
X-WR-CALDESC:Veranstaltungen für Gesangverein &quot;Apollonia&quot; Simmern/Ww e.V.
REFRESH-INTERVAL;VALUE=DURATION:PT1H
X-Robots-Tag:noindex
X-PUBLISHED-TTL:PT1H
BEGIN:VTIMEZONE
TZID:Europe/Berlin
BEGIN:DAYLIGHT
TZOFFSETFROM:+0100
TZOFFSETTO:+0200
TZNAME:CEST
DTSTART:20250330T010000
END:DAYLIGHT
BEGIN:STANDARD
TZOFFSETFROM:+0200
TZOFFSETTO:+0100
TZNAME:CET
DTSTART:20251026T010000
END:STANDARD
BEGIN:DAYLIGHT
TZOFFSETFROM:+0100
TZOFFSETTO:+0200
TZNAME:CEST
DTSTART:20260329T010000
END:DAYLIGHT
BEGIN:STANDARD
TZOFFSETFROM:+0200
TZOFFSETTO:+0100
TZNAME:CET
DTSTART:20261025T010000
END:STANDARD
BEGIN:DAYLIGHT
TZOFFSETFROM:+0100
TZOFFSETTO:+0200
TZNAME:CEST
DTSTART:20270328T010000
END:DAYLIGHT
BEGIN:STANDARD
TZOFFSETFROM:+0200
TZOFFSETTO:+0100
TZNAME:CET
DTSTART:20271031T010000
END:STANDARD
END:VTIMEZONE
BEGIN:VEVENT
DTSTART;TZID=Europe/Berlin:20260104T150000
DTEND;TZID=Europe/Berlin:20260104T170000
DTSTAMP:20260420T114049
CREATED:20251231T104307Z
LAST-MODIFIED:20260225T115632Z
UID:889-1767538800-1767546000@apollonia-simmern.de
SUMMARY:10 Minuten an der Krippe
DESCRIPTION:Am Sonntag\, 04.01.2026\, nehmen wir an der Veranstaltung „10 Minuten an der Krippe“ der Schönstätter Marienschwestern teil. Hierzu treffen sich die Sänger:innen um 14 Uhr in unserem Vereinsraum zum Ansingen. Anschließend wollen wir in Fahrgemeinschaften nach Vallendar fahren.\nHoffentlich können wir mit einer sehr guten Besetzung in der großen Kirche unser Können unter Beweis stellen!
URL:https://apollonia-simmern.de/event/10-minuten-an-der-krippe-3
LOCATION:Anbetungskirche Schönstatt\, Berg Schönstatt\, Vallendar\, 56179\, Deutschland
CATEGORIES:Termine
END:VEVENT
END:VCALENDAR